BEGIN:VCALENDAR
VERSION:2.0
PRODID:-//West Licking Historical Society - ECPv6.15.17//NONSGML v1.0//EN
CALSCALE:GREGORIAN
METHOD:PUBLISH
X-WR-CALNAME:West Licking Historical Society
X-ORIGINAL-URL:https://www.wlhs2000.org
X-WR-CALDESC:Events for West Licking Historical Society
REFRESH-INTERVAL;VALUE=DURATION:PT1H
X-Robots-Tag:noindex
X-PUBLISHED-TTL:PT1H
BEGIN:VTIMEZONE
TZID:America/Detroit
BEGIN:DAYLIGHT
TZOFFSETFROM:-0500
TZOFFSETTO:-0400
TZNAME:EDT
DTSTART:20200308T070000
END:DAYLIGHT
BEGIN:STANDARD
TZOFFSETFROM:-0400
TZOFFSETTO:-0500
TZNAME:EST
DTSTART:20201101T060000
END:STANDARD
BEGIN:DAYLIGHT
TZOFFSETFROM:-0500
TZOFFSETTO:-0400
TZNAME:EDT
DTSTART:20210314T070000
END:DAYLIGHT
BEGIN:STANDARD
TZOFFSETFROM:-0400
TZOFFSETTO:-0500
TZNAME:EST
DTSTART:20211107T060000
END:STANDARD
BEGIN:DAYLIGHT
TZOFFSETFROM:-0500
TZOFFSETTO:-0400
TZNAME:EDT
DTSTART:20220313T070000
END:DAYLIGHT
BEGIN:STANDARD
TZOFFSETFROM:-0400
TZOFFSETTO:-0500
TZNAME:EST
DTSTART:20221106T060000
END:STANDARD
END:VTIMEZONE
BEGIN:VEVENT
DTSTART;TZID=America/Detroit:20210917T090000
DTEND;TZID=America/Detroit:20210918T180000
DTSTAMP:20260419T210545
CREATED:20210824T212244Z
LAST-MODIFIED:20210824T212718Z
UID:616-1631869200-1631988000@www.wlhs2000.org
SUMMARY:West Licking Historical Society Yard Sale
DESCRIPTION:
URL:https://www.wlhs2000.org/event/west-licking-historical-society-yard-sale/
LOCATION:Mead-Needham Museum\, 300 S. Main St\, Pataskala\, OH\, 43062\, United States
END:VEVENT
BEGIN:VEVENT
DTSTART;TZID=America/Detroit:20210916T190000
DTEND;TZID=America/Detroit:20210916T210000
DTSTAMP:20260419T210545
CREATED:20210824T213233Z
LAST-MODIFIED:20210824T213233Z
UID:624-1631818800-1631826000@www.wlhs2000.org
SUMMARY:West Licking Historical Society Monthly Meeting
DESCRIPTION:
URL:https://www.wlhs2000.org/event/west-licking-historical-society-monthly-meeting/
LOCATION:Historic Etna Township House\, 9363 Hazelton-Etna Rd\, Etna\, OH\, 43018\, United States
ORGANIZER;CN="Cristy Meade":MAILTO:president@wlhs2000.org
END:VEVENT
BEGIN:VEVENT
DTSTART;TZID=America/Detroit:20210916T140000
DTEND;TZID=America/Detroit:20210916T170000
DTSTAMP:20260419T210545
CREATED:20210824T212502Z
LAST-MODIFIED:20210824T212545Z
UID:619-1631800800-1631811600@www.wlhs2000.org
SUMMARY:WLHS Yard Sale Item Drop Off
DESCRIPTION:All items must be pre-priced.  No clothes please.
URL:https://www.wlhs2000.org/event/wlhs-yard-sale-item-drop-off/
LOCATION:Mead-Needham Museum\, 300 S. Main St\, Pataskala\, OH\, 43062\, United States
END:VEVENT
BEGIN:VEVENT
DTSTART;TZID=America/Detroit:20210818T120000
DTEND;TZID=America/Detroit:20210822T220000
DTSTAMP:20260419T210545
CREATED:20210820T142458Z
LAST-MODIFIED:20210820T142458Z
UID:494-1629288000-1629669600@www.wlhs2000.org
SUMMARY:Pataskala Street Fair
DESCRIPTION:Come see us at the Pataskala Street Fair.  Our booth is located right in front of the historic Old Town Hall.
URL:https://www.wlhs2000.org/event/pataskala-street-fair/
LOCATION:Pataskala Street Fair\, 430 S. Main St\, Pataskala\, OH\, United States
END:VEVENT
END:VCALENDAR