BEGIN:VCALENDAR
VERSION:2.0
PRODID:-//West Licking Historical Society - ECPv6.15.17//NONSGML v1.0//EN
CALSCALE:GREGORIAN
METHOD:PUBLISH
X-ORIGINAL-URL:https://www.wlhs2000.org
X-WR-CALDESC:Events for West Licking Historical Society
REFRESH-INTERVAL;VALUE=DURATION:PT1H
X-Robots-Tag:noindex
X-PUBLISHED-TTL:PT1H
BEGIN:VTIMEZONE
TZID:America/Detroit
BEGIN:DAYLIGHT
TZOFFSETFROM:-0500
TZOFFSETTO:-0400
TZNAME:EDT
DTSTART:20200308T070000
END:DAYLIGHT
BEGIN:STANDARD
TZOFFSETFROM:-0400
TZOFFSETTO:-0500
TZNAME:EST
DTSTART:20201101T060000
END:STANDARD
BEGIN:DAYLIGHT
TZOFFSETFROM:-0500
TZOFFSETTO:-0400
TZNAME:EDT
DTSTART:20210314T070000
END:DAYLIGHT
BEGIN:STANDARD
TZOFFSETFROM:-0400
TZOFFSETTO:-0500
TZNAME:EST
DTSTART:20211107T060000
END:STANDARD
BEGIN:DAYLIGHT
TZOFFSETFROM:-0500
TZOFFSETTO:-0400
TZNAME:EDT
DTSTART:20220313T070000
END:DAYLIGHT
BEGIN:STANDARD
TZOFFSETFROM:-0400
TZOFFSETTO:-0500
TZNAME:EST
DTSTART:20221106T060000
END:STANDARD
END:VTIMEZONE
BEGIN:VEVENT
DTSTART;VALUE=DATE:20211102
DTEND;VALUE=DATE:20211103
DTSTAMP:20260420T091548
CREATED:20210824T213831Z
LAST-MODIFIED:20210824T213831Z
UID:634-1635811200-1635897599@www.wlhs2000.org
SUMMARY:Election Day
DESCRIPTION:
URL:https://www.wlhs2000.org/event/election-day/
END:VEVENT
BEGIN:VEVENT
DTSTART;TZID=America/Detroit:20211118T180000
DTEND;TZID=America/Detroit:20211118T200000
DTSTAMP:20260420T091548
CREATED:20210824T213604Z
LAST-MODIFIED:20211023T211749Z
UID:632-1637258400-1637265600@www.wlhs2000.org
SUMMARY:West Licking Historical Society Monthly Meeting
DESCRIPTION:
URL:https://www.wlhs2000.org/event/west-licking-historical-society-monthly-meeting-3/
LOCATION:Historic Etna Township House\, 9363 Hazelton-Etna Rd\, Etna\, OH\, 43018\, United States
ORGANIZER;CN="Cristy Meade":MAILTO:president@wlhs2000.org
END:VEVENT
BEGIN:VEVENT
DTSTART;VALUE=DATE:20211125
DTEND;VALUE=DATE:20211126
DTSTAMP:20260420T091548
CREATED:20210824T213924Z
LAST-MODIFIED:20210824T213924Z
UID:636-1637798400-1637884799@www.wlhs2000.org
SUMMARY:Thanksgiving Day
DESCRIPTION:
URL:https://www.wlhs2000.org/event/thanksgiving-day/
END:VEVENT
END:VCALENDAR